BEGIN:VCALENDAR
VERSION:2.0
PRODID:-//Blanca NÃºÃ±ez - ECPv5.14.0.3//NONSGML v1.0//EN
CALSCALE:GREGORIAN
METHOD:PUBLISH
X-WR-CALNAME:Blanca NÃºÃ±ez
X-ORIGINAL-URL:https://blancanunez.com
X-WR-CALDESC:Veranstaltungen fÃ¼r Blanca NÃºÃ±ez
REFRESH-INTERVAL;VALUE=DURATION:PT1H
X-Robots-Tag:noindex
X-PUBLISHED-TTL:PT1H
BEGIN:VTIMEZONE
TZID:UTC
BEGIN:STANDARD
TZOFFSETFROM:+0000
TZOFFSETTO:+0000
TZNAME:UTC
DTSTART:20200101T000000
END:STANDARD
END:VTIMEZONE
BEGIN:VEVENT
DTSTART;TZID=UTC:20200927T190000
DTEND;TZID=UTC:20200927T210000
DTSTAMP:20260421T093745
CREATED:20200812T151707Z
LAST-MODIFIED:20200901T131253Z
UID:616-1601233200-1601240400@blancanunez.com
SUMMARY:Duo w/Norman Peplow (p) | Kultur Badehaus Burscheid
DESCRIPTION:Blanca NÃºÃ±ez &#8211; voc\, guit\, p\, perc\, songs\nNorman Peplow &#8211; p\, synth\, com\, arr.\n_____________________________\nDie spanische SÃ¤ngerin\, Komponistin und Multiinstrumentalistin Blanca NÃºÃ±ez trifft auf Duopartner Norman Peplow am Klavier\, Keys und Kompositionen.\nEs werden Songs auf spanisch gespielt. Es wird Raum geschaffen\, mild und wild improvisiert\, neu konzipiert. Zwischen Latin\, Jazz und Folk bewegen sich die zwei\, rhythmussicher und in stÃ¤ndigem Dialog\, mit einer gemeinsamen Leideschaft fÃ¼r lebendige Harmonien.\nDas neue gemeinsame Quintettalbum &#8220;En tierra&#8221; (Double Moon Records) haben sie auch im GepÃ¤ck.\nAlbum Trailer: https://youtu.be/A7PoRwKwG9Y)\nDUO live VIDEO -> https://youtu.be/7gi4qXRo_EU\n 
URL:https://blancanunez.com/event/duo-w-norman-peplow-p-kultur-badehaus-burscheid/
LOCATION:Kultur Badehaus Burscheid\, BÃ¼rgermeister-Schmidt-StraÃŸe 7C\, Burscheid\, Nordrhein-Westfalen\, 51399\, Deutschland
ATTACH;FMTTYPE=image/jpeg:https://blancanunez.com/wp-content/uploads/2020/06/BlancaNorman-FOTO-von-Marcos-Angeloni-scaled.jpg
END:VEVENT
BEGIN:VEVENT
DTSTART;TZID=UTC:20200912T190000
DTEND;TZID=UTC:20200912T210000
DTSTAMP:20260421T093745
CREATED:20200812T150742Z
LAST-MODIFIED:20200812T151121Z
UID:609-1599937200-1599944400@blancanunez.com
SUMMARY:Duo w/Alfonso Garrido (dr) | Haus Eifgen\, Wermelskirchen
DESCRIPTION:
URL:https://blancanunez.com/event/duo-alfonso-garrido-dr-haus-eifgen-wermelskirchen/
LOCATION:Haus Eifgen\, Eifgen 1\, Wermelskirchen\, Nordrhein-Westfalen\, 42929\, Deutschland
ATTACH;FMTTYPE=image/jpeg:https://blancanunez.com/wp-content/uploads/2020/08/Blanca-96-scaled.jpg
END:VEVENT
BEGIN:VEVENT
DTSTART;TZID=UTC:20200605T203000
DTEND;TZID=UTC:20200605T220000
DTSTAMP:20260421T093745
CREATED:20200602T085048Z
LAST-MODIFIED:20200602T092808Z
UID:527-1591389000-1591394400@blancanunez.com
SUMMARY:Blanca NÃºÃ±ez & Norman Peplow
DESCRIPTION:KÃ¶lns Musikszene ist interkulturell geprÃ¤gt und zu Zeiten von Covid 19\, in denen mancher den Sommerurlaub zuhause verbringt\, sind diese KÃ¼nstler ein besonderer kultureller Reichtum fÃ¼r unsere Stadt. Von Juni bis August werden â€“ natÃ¼rlich unter Einhaltung aller Corona-Regeln zu Abstand und Hygiene â€“ jeden Freitag und Samstag auf dem Achterdeck Konzerte stattfinden.
URL:https://blancanunez.com/event/duo-w-norman-peplow/
LOCATION:Achterdeck &#8211; im Marienburger Bootshaus\, OberlÃ¤nder Ufer\, KÃ¶ln\, Nordrhein-Westfalen\, 50968\, Deutschland
ATTACH;FMTTYPE=image/jpeg:https://blancanunez.com/wp-content/uploads/2020/06/BlancaNorman-FOTO-von-Marcos-Angeloni-scaled.jpg
ORGANIZER;CN="Colconet":MAILTO:info@colconet.de
END:VEVENT
END:VCALENDAR